BEGIN:VCALENDAR
VERSION:2.0
PRODID:-//dhtmlXScheduler//NONSGML v2.2//EN
X-WR-CALNAME:Wydarzenia
BEGIN:VEVENT
DTSTART:20170302T000000
DTEND:20170302T000000
UID:0
SUMMARY:Teatr Wierszalin w Uniwersyteckim Centrum Kultury - zapraszamy! Jeden spektakl "Wziołowstąpienia" tylko dla społeczności uniwersyteckiej.
END:VEVENT
BEGIN:VEVENT
DTSTART:20170302T000000
DTEND:20170302T000000
UID:1
SUMMARY:Prawie setka dzieciaków bawiła się z naszymi wolontariuszami ze Studenckiego Pogotowia Lekcyjnego
END:VEVENT
BEGIN:VEVENT
DTSTART:20170302T000000
DTEND:20170302T000000
UID:2
SUMMARY:Dni Otwarte na Wydziale Biologiczno-Chemicznym już za chwilę: 16-18 marca. Będzie się działo! 
END:VEVENT
BEGIN:VEVENT
DTSTART:20170303T000000
DTEND:20170303T000000
UID:3
SUMMARY:,,Czy małe dawki promieniowania są szkodliwe?" - wykład
END:VEVENT
BEGIN:VEVENT
DTSTART:20170303T000000
DTEND:20170303T000000
UID:4
SUMMARY:Myślisz nad wyborem uczelni? Tylko UwB! Prezentujemy naszą ofertę w powiatach woj. podlaskiego.
END:VEVENT
BEGIN:VEVENT
DTSTART:20170303T000000
DTEND:20170303T000000
UID:5
SUMMARY:BOSS - biznesowy festiwal Studenckiego Forum Business Centre Club
END:VEVENT
BEGIN:VEVENT
DTSTART:20170303T000000
DTEND:20170303T000000
UID:6
SUMMARY:Forum Klas Mundurowych na Wydziale Prawa UwB - rywalizację wygrał ZSO z Sejn. 
END:VEVENT
BEGIN:VEVENT
DTSTART:20170303T000000
DTEND:20170303T000000
UID:7
SUMMARY:Codziennie udowadnia, że chcieć – to móc. 
END:VEVENT
BEGIN:VEVENT
DTSTART:20170306T000000
DTEND:20170306T000000
UID:8
SUMMARY:Wykład prof. Michaela Farle z Duisburg-Essen
podczas spotkania komisji PAN na UwB
END:VEVENT
BEGIN:VEVENT
DTSTART:20170306T000000
DTEND:20170306T000000
UID:9
SUMMARY:Cyberprzestępczość - przyczyny, motywacje, sposoby. Konferencja naukowa na Wydziale Prawa.
END:VEVENT
BEGIN:VEVENT
DTSTART:20170306T000000
DTEND:20170306T000000
UID:10
SUMMARY:Wiosna na Podlasiu jest już pewna! Nad Biebrzę przyleciał już pierwszy kos w tym roku. 
END:VEVENT
BEGIN:VEVENT
DTSTART:20170307T000000
DTEND:20170307T000000
UID:11
SUMMARY:Wydział Biologiczno-Chemiczny UwB będzie współpracował 
z Centrum Nauk Biologiczno-Chemicznych UW

END:VEVENT
BEGIN:VEVENT
DTSTART:20170307T000000
DTEND:20170307T000000
UID:12
SUMMARY:Kryminalistyka w Archiwach X
END:VEVENT
BEGIN:VEVENT
DTSTART:20170307T000000
DTEND:20170307T000000
UID:13
SUMMARY:Matura i co dalej?
END:VEVENT
BEGIN:VEVENT
DTSTART:20170307T000000
DTEND:20170307T000000
UID:14
SUMMARY:Budynek przy ul. Świerkowej przejdzie termomodernizację
END:VEVENT
BEGIN:VEVENT
DTSTART:20170308T000000
DTEND:20170308T000000
UID:15
SUMMARY:Ptasi rekord padł w kampusie Uniwersytetu w Białymstoku! 
END:VEVENT
BEGIN:VEVENT
DTSTART:20170308T000000
DTEND:20170308T000000
UID:16
SUMMARY:Jakie nowe obowiązki nakłada ustawa o mikroorganizmach i organizmach genetycznie zmodyfikowanych?
END:VEVENT
BEGIN:VEVENT
DTSTART:20170309T000000
DTEND:20170309T000000
UID:17
SUMMARY:Historia na UwB ma już... 50 lat. Trwają przygotowania do jubileuszu. 
END:VEVENT
BEGIN:VEVENT
DTSTART:20170309T000000
DTEND:20170309T000000
UID:18
SUMMARY:Studenckie Pogotowie Lekcyjne - włącz się! Trwa nabór na semestr letni. 
END:VEVENT
BEGIN:VEVENT
DTSTART:20170310T000000
DTEND:20170310T000000
UID:19
SUMMARY:Darmowe publikowanie open access w ramach Programu Springer Open Choice/Open Access
END:VEVENT
BEGIN:VEVENT
DTSTART:20170313T000000
DTEND:20170313T000000
UID:20
SUMMARY:„Śmierć” Anny Markowej. Spotkanie na UwB
END:VEVENT
BEGIN:VEVENT
DTSTART:20170314T000000
DTEND:20170314T000000
UID:21
SUMMARY:,,Znaleźć, zrozumieć, zaangażować"
END:VEVENT
BEGIN:VEVENT
DTSTART:20170314T000000
DTEND:20170314T000000
UID:22
SUMMARY:Dwujęzyczna obsługa firmy na potrzeby rynku międzynarodowego
END:VEVENT
BEGIN:VEVENT
DTSTART:20170315T000000
DTEND:20170315T000000
UID:23
SUMMARY:Promocje doktorskie i habilitacyjne na Uniwersytecie w Białymstoku 
END:VEVENT
BEGIN:VEVENT
DTSTART:20170316T000000
DTEND:20170316T000000
UID:24
SUMMARY:Naukowiec 2020 - INFODAY
END:VEVENT
BEGIN:VEVENT
DTSTART:20170316T000000
DTEND:20170316T000000
UID:25
SUMMARY:Wzór na wiosnę - zapraszamy na rodzinne warsztaty w Uniwersyteckim Centrum Kultury 21 marca! 
END:VEVENT
BEGIN:VEVENT
DTSTART:20170316T000000
DTEND:20170316T000000
UID:26
SUMMARY:Wydział Prawa UwB podpisał umowę o współpracy z Europejskim Centrum Inicjatyw w Naukach Sądowych
END:VEVENT
BEGIN:VEVENT
DTSTART:20170317T000000
DTEND:20170317T000000
UID:27
SUMMARY:Spotkanie z Dariuszem Adamowskim z okazji Światowego Dnia Poezji - zaprasza Biblioteka Uniwersytecka
END:VEVENT
BEGIN:VEVENT
DTSTART:20170317T000000
DTEND:20170317T000000
UID:28
SUMMARY:Jak przestanę się rozwijać jako fotograf, rzucę ten zawód
END:VEVENT
BEGIN:VEVENT
DTSTART:20170317T000000
DTEND:20170317T000000
UID:29
SUMMARY:„Handel ludźmi. Zagrożenie współczesnego bezpieczeństwa”
END:VEVENT
BEGIN:VEVENT
DTSTART:20170317T000000
DTEND:20170317T000000
UID:30
SUMMARY:Marcowe Spotkania z Nauką na Wydziale Biologiczno-Chemicznym UwB
END:VEVENT
BEGIN:VEVENT
DTSTART:20170320T000000
DTEND:20170320T000000
UID:31
SUMMARY:Podatki mają konsekwencje - spotkanie z prof. Robertem Gwiazdowskim
END:VEVENT
BEGIN:VEVENT
DTSTART:20170320T000000
DTEND:20170320T000000
UID:32
SUMMARY:Sukces przedstawicieli UwB na V Olimpiadzie z Prawa Międzynarodowego w Grodnie
END:VEVENT
BEGIN:VEVENT
DTSTART:20170320T000000
DTEND:20170320T000000
UID:33
SUMMARY:Dzieci znów mogą liczyć na pomoc w nauce. 
Ruszają dyżury Studenckiego Pogotowia Lekcyjnego 

END:VEVENT
BEGIN:VEVENT
DTSTART:20170320T000000
DTEND:20170320T000000
UID:34
SUMMARY:Międzynarodowe zmagania matematyczne

END:VEVENT
BEGIN:VEVENT
DTSTART:20170322T000000
DTEND:20170322T000000
UID:35
SUMMARY:Tydzień Mózgu w Białymstoku
END:VEVENT
BEGIN:VEVENT
DTSTART:20170322T000000
DTEND:20170322T000000
UID:36
SUMMARY:Rekrutacyjna akcja wileńskiego Wydziału Ekonomiczno-Informatycznego UwB
END:VEVENT
BEGIN:VEVENT
DTSTART:20170323T000000
DTEND:20170323T000000
UID:37
SUMMARY:Nowy film promocyjny - Mannequin Challenge studentów UwB! 
END:VEVENT
BEGIN:VEVENT
DTSTART:20170323T000000
DTEND:20170323T000000
UID:38
SUMMARY:3 kwietnia w UCK spotkanie z Krzesimirem Dębskim - zapraszamy!
END:VEVENT
BEGIN:VEVENT
DTSTART:20170323T000000
DTEND:20170323T000000
UID:39
SUMMARY:Seminarium z kryminologii prowadzone metodą sokratyczną - w kwietniu na Wydziale Prawa
END:VEVENT
BEGIN:VEVENT
DTSTART:20170323T000000
DTEND:20170323T000000
UID:40
SUMMARY:I Konferencja Nauczycieli Fizyki na UwB
END:VEVENT
BEGIN:VEVENT
DTSTART:20170324T000000
DTEND:20170324T000000
UID:41
SUMMARY:Marcowe spotkania z nauką w ramach Dni Otwartych
na Wydziale Biologiczno-Chemicznym
END:VEVENT
BEGIN:VEVENT
DTSTART:20170324T000000
DTEND:20170324T000000
UID:42
SUMMARY:Uniwersytecka oferta na targach edukacyjnych 
END:VEVENT
BEGIN:VEVENT
DTSTART:20170327T000000
DTEND:20170327T000000
UID:43
SUMMARY:Jestem pod wrażeniem potęgi życia i siły przetrwania
END:VEVENT
BEGIN:VEVENT
DTSTART:20170327T000000
DTEND:20170327T000000
UID:44
SUMMARY:Trwają Dni Wydziału Prawa UwB - zapraszamy na ciekawe spotkania, symulacje i warsztaty
END:VEVENT
BEGIN:VEVENT
DTSTART:20170327T000000
DTEND:20170327T000000
UID:45
SUMMARY:Wykład o staroobrzędowcach
END:VEVENT
BEGIN:VEVENT
DTSTART:20170327T000000
DTEND:20170327T000000
UID:46
SUMMARY:Studenci biologii UwB ratują płazy nad Biebrzą
END:VEVENT
BEGIN:VEVENT
DTSTART:20170328T000000
DTEND:20170328T000000
UID:47
SUMMARY:Człowieka wciąż zastąpić się nie da. Debata "Prawo a sztuczna inteligencja" podczas Dni Wydziału Prawa 
END:VEVENT
BEGIN:VEVENT
DTSTART:20170328T000000
DTEND:20170328T000000
UID:48
SUMMARY:„Między wierszami” - spotkanie z Wojciechem Kassem
END:VEVENT
BEGIN:VEVENT
DTSTART:20170329T000000
DTEND:20170329T000000
UID:49
SUMMARY:Chemia – przyszłość zaczyna się dziś
END:VEVENT
BEGIN:VEVENT
DTSTART:20170329T000000
DTEND:20170329T000000
UID:50
SUMMARY:Rejestracja na warsztaty dla pracowników administracyjnych
END:VEVENT
BEGIN:VEVENT
DTSTART:20170329T000000
DTEND:20170329T000000
UID:51
SUMMARY:MINIATURA – nowy typ konkursu Narodowego Centrum Nauki
END:VEVENT
BEGIN:VEVENT
DTSTART:20170329T000000
DTEND:20170329T000000
UID:52
SUMMARY:MINIATURA – nowy typ konkursu Narodowego Centrum Nauki
END:VEVENT
BEGIN:VEVENT
DTSTART:20170329T000000
DTEND:20170329T000000
UID:53
SUMMARY:Uwolnij książki! Od dziś bookcrossing na Wydziale Prawa
END:VEVENT
BEGIN:VEVENT
DTSTART:20170330T000000
DTEND:20170330T000000
UID:54
SUMMARY:Zapraszamy na wykład o historii najnowszej Litwy w ramach projektu "Wesprzyj maturzystę" na wileńskim wydziale UwB
END:VEVENT
BEGIN:VEVENT
DTSTART:20170331T000000
DTEND:20170331T000000
UID:55
SUMMARY:Projektujemy algorytmy. A one nas 
END:VEVENT
BEGIN:VEVENT
DTSTART:20230228T120000
DTEND:20260425T030021
UID:56
SUMMARY:Seminarium naukowe "Fizjologia nurkowania na wstrzymanym oddechu"
END:VEVENT
BEGIN:VEVENT
DTSTART:20230307T131500
DTEND:20260425T030021
UID:57
SUMMARY:Holografia – od podstaw po najnowsze wykorzystanie opto-magnetyzmu
END:VEVENT
BEGIN:VEVENT
DTSTART:20230314T120000
DTEND:20260425T030021
UID:58
SUMMARY:Wydział Biologii UwB zaprasza na seminarium naukowe pt. "Współczesne zagrożenia wirusologiczne"
END:VEVENT
BEGIN:VEVENT
DTSTART:20230315T113000
DTEND:20260425T030021
UID:59
SUMMARY:Kulturoznawcy z UwB zapraszają na spotkanie autorskie z Wojciechem Rogacinem
END:VEVENT
BEGIN:VEVENT
DTSTART:20230320T120000
DTEND:20260425T030021
UID:60
SUMMARY:Międzynarodowy Dzień Frankofonii na Wydziale Filologicznym UwB
END:VEVENT
BEGIN:VEVENT
DTSTART:20230419T100000
DTEND:20260425T133000
UID:61
SUMMARY:Biuro Karier UwB zaprasza na Targi Pracy - wiosna 2023
END:VEVENT
BEGIN:VEVENT
DTSTART:20230531T130000
DTEND:20260425T030021
UID:62
SUMMARY:Uroczystość nadania tytułu doktora honoris causa Uniwersytetu w Białymstoku prof. Tadeuszowi Pilchowi
END:VEVENT
BEGIN:VEVENT
DTSTART:20230628T180000
DTEND:20260425T030021
UID:63
SUMMARY:Koncert muzyki renesansowej i barokowej w auli Wydziału Nauk o Edukacji
END:VEVENT
BEGIN:VEVENT
DTSTART:20231010T000000
DTEND:20260425T030021
UID:64
SUMMARY:GLOTTA - Uniwersyteckie Studium Praktycznej Nauki Języków Obcych zaprasza na kurs z języka angielskiego
END:VEVENT
BEGIN:VEVENT
DTSTART:20231018T140000
DTEND:20260425T030021
UID:65
SUMMARY:“Opowieści o prawach dziecka”. Spotkanie autorskie z dr. Markiem Michalakiem
END:VEVENT
BEGIN:VEVENT
DTSTART:20231023T180000
DTEND:20260425T030021
UID:66
SUMMARY:Spotkanie z Krystyną Konecką: Konterfekty i konteksty
END:VEVENT
BEGIN:VEVENT
DTSTART:20231023T150000
DTEND:20260425T030021
UID:67
SUMMARY:Jak innych zapalać i samemu nie zgasnąć? Wykład otwarty na UwB
END:VEVENT
BEGIN:VEVENT
DTSTART:20231121T110000
DTEND:20260425T030021
UID:68
SUMMARY:I Seminarium Ekonomiczne dla Biznesu o nieruchomościach
END:VEVENT
BEGIN:VEVENT
DTSTART:20231204T150000
DTEND:20260425T030021
UID:69
SUMMARY:Rusza II edycja Programu Tutorskiego UwB. Uczelnia czeka na zgłoszenia uczniów do 4 grudnia
END:VEVENT
BEGIN:VEVENT
DTSTART:20231214T120000
DTEND:20260425T030021
UID:70
SUMMARY:Chcesz być mistrzem - myśl jak mistrz! Spotkanie z Piotrem Markiewiczem na UwB
END:VEVENT
BEGIN:VEVENT
DTSTART:20240110T170000
DTEND:20260425T030021
UID:71
SUMMARY:Osobowości zwierząt.  Kolejne Spotkanie z filozofią i kognitywistyką na UwB
END:VEVENT
BEGIN:VEVENT
DTSTART:20240112T120000
DTEND:20260425T030021
UID:72
SUMMARY:Tajemnice życia od komórek do biosfery, czyli Noc Biologów 2024 w kampusie Uniwersytetu w Białymstoku
END:VEVENT
BEGIN:VEVENT
DTSTART:20240215T000000
DTEND:20260425T030021
UID:73
SUMMARY:Studium Praktycznej Nauki Języków Obcych zaprasza na kurs przygotowujący do egzaminu IELTS
END:VEVENT
BEGIN:VEVENT
DTSTART:20240218T093000
DTEND:20260425T143000
UID:74
SUMMARY:Turniej Szachowy o Puchar Rektora Uniwersytetu w Białymstoku
END:VEVENT
BEGIN:VEVENT
DTSTART:20240221T120000
DTEND:20260425T030021
UID:75
SUMMARY:Frazeolandia – kraina mlekiem i miodem płynąca
END:VEVENT
BEGIN:VEVENT
DTSTART:20240301T100000
DTEND:20260425T030021
UID:76
SUMMARY:Jubileusz 25-lecia Katedry Teologii Katolickiej i Katedry Teologii Prawosławnej Uniwersytetu w Białymstoku
END:VEVENT
BEGIN:VEVENT
DTSTART:20240312T094000
DTEND:20260425T030021
UID:77
SUMMARY:Debata „Ćwierć wieku współpracy dla bezpieczeństwa. 25 lat Polski w NATO”
END:VEVENT
BEGIN:VEVENT
DTSTART:20240319T131500
DTEND:20260425T030021
UID:78
SUMMARY:Topological Phases of Materials and Their Applications na Wydziale Fizyki
END:VEVENT
BEGIN:VEVENT
DTSTART:20240322T163000
DTEND:20260425T030021
UID:79
SUMMARY:50-lecie Olimpiady Historycznej - konferencja
END:VEVENT
BEGIN:VEVENT
DTSTART:20240424T090000
DTEND:20260425T030021
UID:80
SUMMARY:Program i ogólne zasady organizacji spotkania kandydatów na rektora Uniwersytetu w Białymstoku z kolegium elektorów oraz członkami wspólnoty uczelni
END:VEVENT
BEGIN:VEVENT
DTSTART:20240513T000000
DTEND:20260425T030021
UID:81
SUMMARY:Bezpłatne kursy i szkolenia Santander Open Academy
END:VEVENT
BEGIN:VEVENT
DTSTART:20240603T120000
DTEND:20260425T030021
UID:82
SUMMARY:Wydział Chemii UwB zaprasza na seminarium Chemia-Prawo-Kryminalistyka
END:VEVENT
BEGIN:VEVENT
DTSTART:20240606T093000
DTEND:20260425T030021
UID:83
SUMMARY:Wydział Historii UwB zaprasza na wykład ,,Archeologia prawna Śląska i ziemi kłodzkiej XV-XVIII w. – wybrane aspekty badawcze’’
END:VEVENT
BEGIN:VEVENT
DTSTART:20240616T150000
DTEND:20260425T030021
UID:84
SUMMARY:„Misja Bioróżnorodność” na UwB znów rekrutuje
END:VEVENT
BEGIN:VEVENT
DTSTART:20240916T140000
DTEND:20260425T160000
UID:85
SUMMARY:Uroczystość nadania tytułu doktora honoris causa Uniwersytetu w Białymstoku
END:VEVENT
BEGIN:VEVENT
DTSTART:20240917T130000
DTEND:20260425T030021
UID:86
SUMMARY:Nauka na rzecz efektywnego wejścia na rynek pracy wykształconych autystów – konferencja podsumowująca
END:VEVENT
BEGIN:VEVENT
DTSTART:20241025T160000
DTEND:20260425T030021
UID:87
SUMMARY:O szeptuchach i religijności ludowej – spotkanie autorskie z dr Eweliną Sadanowicz w Bibliotece Uniwersyteckiej
END:VEVENT
BEGIN:VEVENT
DTSTART:20241119T094500
DTEND:20260425T030021
UID:88
SUMMARY:Wydział Nauk o Edukacji zaprasza na wykład: Osobowość psychopatyczna w świetle najnowszych badań naukowych
END:VEVENT
BEGIN:VEVENT
DTSTART:20241126T113000
DTEND:20260425T030021
UID:89
SUMMARY:Zaproszenie na przedstawienie Teatru Amatorskiego z Dubna (k. Bielska Podlaskiego) sztuki Heleny Aleksiejuk pt: „Timoszka"
END:VEVENT
BEGIN:VEVENT
DTSTART:20250319T131500
DTEND:20260425T030021
UID:90
SUMMARY:AI i dezinformacja - wykład na Wydziale Prawa UwB
END:VEVENT
BEGIN:VEVENT
DTSTART:20250321T103000
DTEND:20260425T030021
UID:91
SUMMARY:"Rola i znaczenie Służby Cywilnej w Polsce" - spotkanie z Małgorzatą Bywanis-Jodlińską
END:VEVENT
BEGIN:VEVENT
DTSTART:20250415T080000
DTEND:20260425T030021
UID:92
SUMMARY:Diorama Box 4 Love. Mikro-Krajobrazy Podlasia. Biblioteka Uniwersytecka zaprasza na wystawę
END:VEVENT
BEGIN:VEVENT
DTSTART:20250507T183000
DTEND:20260425T030021
UID:93
SUMMARY:Teatr, uczelnia i sztuczna inteligencja. Uniwersytecki Teatr StuKoT zaprasza na premierę spektaklu „Ferrando AI”
END:VEVENT
BEGIN:VEVENT
DTSTART:20251120T113000
DTEND:20260425T030021
UID:94
SUMMARY:Jak dziś czytać Żeromskiego? – Biblioteka Uniwersytecka zaprasza na spotkanie z prof. Markiem Kochanowskim
END:VEVENT
BEGIN:VEVENT
DTSTART:20251127T120000
DTEND:20260425T150000
UID:95
SUMMARY:Zdrowy Andrzej, czyli młodzi młodym o zdrowiu - akcja profilaktyczna na UwB
END:VEVENT
BEGIN:VEVENT
DTSTART:20251213T100000
DTEND:20260425T030021
UID:96
SUMMARY:Warsztaty ze znakomitym rękodzielnikiem w Biebrzańskim Parku Narodowym. Zapraszamy do stacji terenowej Wydziału Biologii UwB w Gugnach
END:VEVENT
BEGIN:VEVENT
DTSTART:20260315T120000
DTEND:20260425T030021
UID:97
SUMMARY:Wolność WYboru - o decyzjach, tożsamości i przekraczaniu granic. Wystawa na Wydziale Nauk o Edukacji
END:VEVENT
END:VCALENDAR