BEGIN:VCALENDAR
VERSION:2.0
PRODID:-//dhtmlXScheduler//NONSGML v2.2//EN
X-WR-CALNAME:Wydarzenia
BEGIN:VEVENT
DTSTART:20160504T000000
DTEND:20160504T000000
UID:0
SUMMARY:Linią C dojedziesz na kampus
END:VEVENT
BEGIN:VEVENT
DTSTART:20160505T000000
DTEND:20160505T000000
UID:1
SUMMARY:Dr Julita Sadowska z UwB stypendystką programu START
END:VEVENT
BEGIN:VEVENT
DTSTART:20160505T000000
DTEND:20160505T000000
UID:2
SUMMARY:Nagroda dla odkrywców fal grawitacyjnych. W tym gronie jest także prof. Piotr Jaranowski z UwB 
END:VEVENT
BEGIN:VEVENT
DTSTART:20160505T000000
DTEND:20160505T000000
UID:3
SUMMARY:Transmisja z gniazda orlików krzykliwych
END:VEVENT
BEGIN:VEVENT
DTSTART:20160506T000000
DTEND:20160506T000000
UID:4
SUMMARY:UwB na Pikniku Naukowym w Warszawie
END:VEVENT
BEGIN:VEVENT
DTSTART:20160509T000000
DTEND:20160509T000000
UID:5
SUMMARY:Konferencja prasowa przed XIV Podlaskim Festiwalem Nauki i Sztuki
END:VEVENT
BEGIN:VEVENT
DTSTART:20160510T000000
DTEND:20160510T000000
UID:6
SUMMARY:Wyniki konkursów OPUS 10, PRELUDIUM 10 i SONATA 10 ogłoszonych przez NCN
END:VEVENT
BEGIN:VEVENT
DTSTART:20160510T000000
DTEND:20160510T000000
UID:7
SUMMARY:3 granty z NCN dla naukowców z Uniwersytetu w Białymstoku 
END:VEVENT
BEGIN:VEVENT
DTSTART:20160510T000000
DTEND:20160510T000000
UID:8
SUMMARY:Rzeczy, znaki i obrazy
END:VEVENT
BEGIN:VEVENT
DTSTART:20160510T000000
DTEND:20160510T000000
UID:9
SUMMARY:Jak zostać asem wywiadu 
END:VEVENT
BEGIN:VEVENT
DTSTART:20160511T000000
DTEND:20160511T000000
UID:10
SUMMARY:Festiwal czas zacząć 
END:VEVENT
BEGIN:VEVENT
DTSTART:20160511T000000
DTEND:20160511T000000
UID:11
SUMMARY:Apel Prezydium KRASP o przeciwstawianie się mowie nienawiści
END:VEVENT
BEGIN:VEVENT
DTSTART:20160511T000000
DTEND:20160511T000000
UID:12
SUMMARY:Uniwersytet biega - uniwersytet kibicuje! 
END:VEVENT
BEGIN:VEVENT
DTSTART:20160512T000000
DTEND:20160512T000000
UID:13
SUMMARY:40-lecie Chóru Akademickiego Uniwersytetu w Białymstoku
END:VEVENT
BEGIN:VEVENT
DTSTART:20160512T000000
DTEND:20160512T000000
UID:14
SUMMARY:Ogłoszenie konkursów OPUS 11, PRELUDIUM 11, SONATA 11 i POLONEZ 2
END:VEVENT
BEGIN:VEVENT
DTSTART:20160512T000000
DTEND:20160512T000000
UID:15
SUMMARY:Noc Muzeów na Uniwersytecie w Białymstoku
END:VEVENT
BEGIN:VEVENT
DTSTART:20160512T000000
DTEND:20160512T000000
UID:16
SUMMARY:Kolorowy Świat w Akwarium
END:VEVENT
BEGIN:VEVENT
DTSTART:20160513T000000
DTEND:20160513T000000
UID:17
SUMMARY:Ogólnopolskie Forum Młodych Kryminologów
END:VEVENT
BEGIN:VEVENT
DTSTART:20160513T000000
DTEND:20160513T000000
UID:18
SUMMARY:Dzień Dziecka w Instytucie Chemii
END:VEVENT
BEGIN:VEVENT
DTSTART:20160516T000000
DTEND:20160516T000000
UID:19
SUMMARY:Erasmus+ dla pracowników UwB
END:VEVENT
BEGIN:VEVENT
DTSTART:20160516T000000
DTEND:20160516T000000
UID:20
SUMMARY:Ogórek z historią 
END:VEVENT
BEGIN:VEVENT
DTSTART:20160516T000000
DTEND:20160516T000000
UID:21
SUMMARY:17 maja rusza rekrutacja na Uniwersytecie w Białymstoku
END:VEVENT
BEGIN:VEVENT
DTSTART:20160518T000000
DTEND:20160518T000000
UID:22
SUMMARY:Festiwal Nauki i Sztuki rozpoczęty
END:VEVENT
BEGIN:VEVENT
DTSTART:20160518T000000
DTEND:20160518T000000
UID:23
SUMMARY:Kosmos, goryl i gratulacje - za nami inauguracja Festiwalu Nauki i Sztuki 
END:VEVENT
BEGIN:VEVENT
DTSTART:20160519T000000
DTEND:20160519T000000
UID:24
SUMMARY:Uniwersytet w Białymstoku współorganizatorem festiwalu WATCH DOCS
END:VEVENT
BEGIN:VEVENT
DTSTART:20160519T000000
DTEND:20160519T000000
UID:25
SUMMARY:Kolorowy Świat w Akwarium
END:VEVENT
BEGIN:VEVENT
DTSTART:20160519T000000
DTEND:20160519T000000
UID:26
SUMMARY:Letnia Szkoła Dziennikarstwa 
END:VEVENT
BEGIN:VEVENT
DTSTART:20160520T000000
DTEND:20160520T000000
UID:27
SUMMARY:Akademicka niedziela na białostockim rynku 
END:VEVENT
BEGIN:VEVENT
DTSTART:20160520T000000
DTEND:20160520T000000
UID:28
SUMMARY:Spotkanie z władzami rektorskimi
END:VEVENT
BEGIN:VEVENT
DTSTART:20160520T000000
DTEND:20160520T000000
UID:29
SUMMARY:KampDays

Studencki Festiwal w kampusie Uniwersytetu w Białymstoku
END:VEVENT
BEGIN:VEVENT
DTSTART:20160523T000000
DTEND:20160523T000000
UID:30
SUMMARY:Rekordowa frekwencja w Dniu Akademickim
END:VEVENT
BEGIN:VEVENT
DTSTART:20160523T000000
DTEND:20160523T000000
UID:31
SUMMARY:Holenderscy studenci w gościnie na UwB. Badają biebrzańską przyrodę
END:VEVENT
BEGIN:VEVENT
DTSTART:20160524T000000
DTEND:20160524T000000
UID:32
SUMMARY:Godziny rektorskie na KampDays
END:VEVENT
BEGIN:VEVENT
DTSTART:20160525T000000
DTEND:20160525T000000
UID:33
SUMMARY:Studenci i naukowcy z wileńskiego wydziału UwB odwiedzą polskie uczelnie
END:VEVENT
BEGIN:VEVENT
DTSTART:20160530T000000
DTEND:20160530T000000
UID:34
SUMMARY:Instytut Biologii świętuje 40. urodziny
END:VEVENT
BEGIN:VEVENT
DTSTART:20160530T000000
DTEND:20160530T000000
UID:35
SUMMARY:I miejsce w konkursie fotograficznym SUP „Kolory Życia”
END:VEVENT
BEGIN:VEVENT
DTSTART:20160530T000000
DTEND:20160530T000000
UID:36
SUMMARY:Dr hab. Małgorzata Cecylia Halicka z UwB członkiem Rady ds. Polityki Senioralnej
END:VEVENT
BEGIN:VEVENT
DTSTART:20160530T000000
DTEND:20160530T000000
UID:37
SUMMARY:„Modlitwa. Teatr powszechny”

Nowy projekt Fundacji Uniwersytetu w Białymstoku
END:VEVENT
BEGIN:VEVENT
DTSTART:20160531T000000
DTEND:20160531T000000
UID:38
SUMMARY:Warsztaty pisania recenzji teatralnych
END:VEVENT
BEGIN:VEVENT
DTSTART:20160531T000000
DTEND:20160531T000000
UID:39
SUMMARY:'Multi-kulti' - szansa czy zagrożenie? Wykład otwarty na Uniwersytecie w Białymstoku
END:VEVENT
BEGIN:VEVENT
DTSTART:20230228T120000
DTEND:20260425T205313
UID:40
SUMMARY:Seminarium naukowe "Fizjologia nurkowania na wstrzymanym oddechu"
END:VEVENT
BEGIN:VEVENT
DTSTART:20230307T131500
DTEND:20260425T205313
UID:41
SUMMARY:Holografia – od podstaw po najnowsze wykorzystanie opto-magnetyzmu
END:VEVENT
BEGIN:VEVENT
DTSTART:20230314T120000
DTEND:20260425T205313
UID:42
SUMMARY:Wydział Biologii UwB zaprasza na seminarium naukowe pt. "Współczesne zagrożenia wirusologiczne"
END:VEVENT
BEGIN:VEVENT
DTSTART:20230315T113000
DTEND:20260425T205313
UID:43
SUMMARY:Kulturoznawcy z UwB zapraszają na spotkanie autorskie z Wojciechem Rogacinem
END:VEVENT
BEGIN:VEVENT
DTSTART:20230320T120000
DTEND:20260425T205313
UID:44
SUMMARY:Międzynarodowy Dzień Frankofonii na Wydziale Filologicznym UwB
END:VEVENT
BEGIN:VEVENT
DTSTART:20230419T100000
DTEND:20260425T133000
UID:45
SUMMARY:Biuro Karier UwB zaprasza na Targi Pracy - wiosna 2023
END:VEVENT
BEGIN:VEVENT
DTSTART:20230531T130000
DTEND:20260425T205313
UID:46
SUMMARY:Uroczystość nadania tytułu doktora honoris causa Uniwersytetu w Białymstoku prof. Tadeuszowi Pilchowi
END:VEVENT
BEGIN:VEVENT
DTSTART:20230628T180000
DTEND:20260425T205313
UID:47
SUMMARY:Koncert muzyki renesansowej i barokowej w auli Wydziału Nauk o Edukacji
END:VEVENT
BEGIN:VEVENT
DTSTART:20231010T000000
DTEND:20260425T205313
UID:48
SUMMARY:GLOTTA - Uniwersyteckie Studium Praktycznej Nauki Języków Obcych zaprasza na kurs z języka angielskiego
END:VEVENT
BEGIN:VEVENT
DTSTART:20231018T140000
DTEND:20260425T205313
UID:49
SUMMARY:“Opowieści o prawach dziecka”. Spotkanie autorskie z dr. Markiem Michalakiem
END:VEVENT
BEGIN:VEVENT
DTSTART:20231023T180000
DTEND:20260425T205313
UID:50
SUMMARY:Spotkanie z Krystyną Konecką: Konterfekty i konteksty
END:VEVENT
BEGIN:VEVENT
DTSTART:20231023T150000
DTEND:20260425T205313
UID:51
SUMMARY:Jak innych zapalać i samemu nie zgasnąć? Wykład otwarty na UwB
END:VEVENT
BEGIN:VEVENT
DTSTART:20231121T110000
DTEND:20260425T205313
UID:52
SUMMARY:I Seminarium Ekonomiczne dla Biznesu o nieruchomościach
END:VEVENT
BEGIN:VEVENT
DTSTART:20231204T150000
DTEND:20260425T205313
UID:53
SUMMARY:Rusza II edycja Programu Tutorskiego UwB. Uczelnia czeka na zgłoszenia uczniów do 4 grudnia
END:VEVENT
BEGIN:VEVENT
DTSTART:20231214T120000
DTEND:20260425T205313
UID:54
SUMMARY:Chcesz być mistrzem - myśl jak mistrz! Spotkanie z Piotrem Markiewiczem na UwB
END:VEVENT
BEGIN:VEVENT
DTSTART:20240110T170000
DTEND:20260425T205313
UID:55
SUMMARY:Osobowości zwierząt.  Kolejne Spotkanie z filozofią i kognitywistyką na UwB
END:VEVENT
BEGIN:VEVENT
DTSTART:20240112T120000
DTEND:20260425T205313
UID:56
SUMMARY:Tajemnice życia od komórek do biosfery, czyli Noc Biologów 2024 w kampusie Uniwersytetu w Białymstoku
END:VEVENT
BEGIN:VEVENT
DTSTART:20240215T000000
DTEND:20260425T205313
UID:57
SUMMARY:Studium Praktycznej Nauki Języków Obcych zaprasza na kurs przygotowujący do egzaminu IELTS
END:VEVENT
BEGIN:VEVENT
DTSTART:20240218T093000
DTEND:20260425T143000
UID:58
SUMMARY:Turniej Szachowy o Puchar Rektora Uniwersytetu w Białymstoku
END:VEVENT
BEGIN:VEVENT
DTSTART:20240221T120000
DTEND:20260425T205313
UID:59
SUMMARY:Frazeolandia – kraina mlekiem i miodem płynąca
END:VEVENT
BEGIN:VEVENT
DTSTART:20240301T100000
DTEND:20260425T205313
UID:60
SUMMARY:Jubileusz 25-lecia Katedry Teologii Katolickiej i Katedry Teologii Prawosławnej Uniwersytetu w Białymstoku
END:VEVENT
BEGIN:VEVENT
DTSTART:20240312T094000
DTEND:20260425T205313
UID:61
SUMMARY:Debata „Ćwierć wieku współpracy dla bezpieczeństwa. 25 lat Polski w NATO”
END:VEVENT
BEGIN:VEVENT
DTSTART:20240319T131500
DTEND:20260425T205313
UID:62
SUMMARY:Topological Phases of Materials and Their Applications na Wydziale Fizyki
END:VEVENT
BEGIN:VEVENT
DTSTART:20240322T163000
DTEND:20260425T205313
UID:63
SUMMARY:50-lecie Olimpiady Historycznej - konferencja
END:VEVENT
BEGIN:VEVENT
DTSTART:20240424T090000
DTEND:20260425T205313
UID:64
SUMMARY:Program i ogólne zasady organizacji spotkania kandydatów na rektora Uniwersytetu w Białymstoku z kolegium elektorów oraz członkami wspólnoty uczelni
END:VEVENT
BEGIN:VEVENT
DTSTART:20240513T000000
DTEND:20260425T205313
UID:65
SUMMARY:Bezpłatne kursy i szkolenia Santander Open Academy
END:VEVENT
BEGIN:VEVENT
DTSTART:20240603T120000
DTEND:20260425T205313
UID:66
SUMMARY:Wydział Chemii UwB zaprasza na seminarium Chemia-Prawo-Kryminalistyka
END:VEVENT
BEGIN:VEVENT
DTSTART:20240606T093000
DTEND:20260425T205313
UID:67
SUMMARY:Wydział Historii UwB zaprasza na wykład ,,Archeologia prawna Śląska i ziemi kłodzkiej XV-XVIII w. – wybrane aspekty badawcze’’
END:VEVENT
BEGIN:VEVENT
DTSTART:20240616T150000
DTEND:20260425T205313
UID:68
SUMMARY:„Misja Bioróżnorodność” na UwB znów rekrutuje
END:VEVENT
BEGIN:VEVENT
DTSTART:20240916T140000
DTEND:20260425T160000
UID:69
SUMMARY:Uroczystość nadania tytułu doktora honoris causa Uniwersytetu w Białymstoku
END:VEVENT
BEGIN:VEVENT
DTSTART:20240917T130000
DTEND:20260425T205313
UID:70
SUMMARY:Nauka na rzecz efektywnego wejścia na rynek pracy wykształconych autystów – konferencja podsumowująca
END:VEVENT
BEGIN:VEVENT
DTSTART:20241025T160000
DTEND:20260425T205313
UID:71
SUMMARY:O szeptuchach i religijności ludowej – spotkanie autorskie z dr Eweliną Sadanowicz w Bibliotece Uniwersyteckiej
END:VEVENT
BEGIN:VEVENT
DTSTART:20241119T094500
DTEND:20260425T205313
UID:72
SUMMARY:Wydział Nauk o Edukacji zaprasza na wykład: Osobowość psychopatyczna w świetle najnowszych badań naukowych
END:VEVENT
BEGIN:VEVENT
DTSTART:20241126T113000
DTEND:20260425T205313
UID:73
SUMMARY:Zaproszenie na przedstawienie Teatru Amatorskiego z Dubna (k. Bielska Podlaskiego) sztuki Heleny Aleksiejuk pt: „Timoszka"
END:VEVENT
BEGIN:VEVENT
DTSTART:20250319T131500
DTEND:20260425T205313
UID:74
SUMMARY:AI i dezinformacja - wykład na Wydziale Prawa UwB
END:VEVENT
BEGIN:VEVENT
DTSTART:20250321T103000
DTEND:20260425T205313
UID:75
SUMMARY:"Rola i znaczenie Służby Cywilnej w Polsce" - spotkanie z Małgorzatą Bywanis-Jodlińską
END:VEVENT
BEGIN:VEVENT
DTSTART:20250415T080000
DTEND:20260425T205313
UID:76
SUMMARY:Diorama Box 4 Love. Mikro-Krajobrazy Podlasia. Biblioteka Uniwersytecka zaprasza na wystawę
END:VEVENT
BEGIN:VEVENT
DTSTART:20250507T183000
DTEND:20260425T205313
UID:77
SUMMARY:Teatr, uczelnia i sztuczna inteligencja. Uniwersytecki Teatr StuKoT zaprasza na premierę spektaklu „Ferrando AI”
END:VEVENT
BEGIN:VEVENT
DTSTART:20251120T113000
DTEND:20260425T205313
UID:78
SUMMARY:Jak dziś czytać Żeromskiego? – Biblioteka Uniwersytecka zaprasza na spotkanie z prof. Markiem Kochanowskim
END:VEVENT
BEGIN:VEVENT
DTSTART:20251127T120000
DTEND:20260425T150000
UID:79
SUMMARY:Zdrowy Andrzej, czyli młodzi młodym o zdrowiu - akcja profilaktyczna na UwB
END:VEVENT
BEGIN:VEVENT
DTSTART:20251213T100000
DTEND:20260425T205313
UID:80
SUMMARY:Warsztaty ze znakomitym rękodzielnikiem w Biebrzańskim Parku Narodowym. Zapraszamy do stacji terenowej Wydziału Biologii UwB w Gugnach
END:VEVENT
BEGIN:VEVENT
DTSTART:20260315T120000
DTEND:20260425T205313
UID:81
SUMMARY:Wolność WYboru - o decyzjach, tożsamości i przekraczaniu granic. Wystawa na Wydziale Nauk o Edukacji
END:VEVENT
END:VCALENDAR