BEGIN:VCALENDAR
VERSION:2.0
PRODID:-//dhtmlXScheduler//NONSGML v2.2//EN
X-WR-CALNAME:Wydarzenia
BEGIN:VEVENT
DTSTART:20171106T000000
DTEND:20171106T000000
UID:0
SUMMARY:Ważna informacja dla wnioskodawców w konkursie MINIATURA 1
END:VEVENT
BEGIN:VEVENT
DTSTART:20171107T000000
DTEND:20171107T000000
UID:1
SUMMARY:CERI DAY na Wydziale Ekonomii i Zarządzania już 8 listopada
END:VEVENT
BEGIN:VEVENT
DTSTART:20171107T000000
DTEND:20171107T000000
UID:2
SUMMARY:Znamy finalistów konkursu "Technotalenty 2017"! 
END:VEVENT
BEGIN:VEVENT
DTSTART:20171107T000000
DTEND:20171107T000000
UID:3
SUMMARY:Blisko 800 eksponatów w darze dla Uniwersyteckiego Centrum Przyrodniczego 
END:VEVENT
BEGIN:VEVENT
DTSTART:20171108T000000
DTEND:20171108T000000
UID:4
SUMMARY:Koncert Chóru Akademickiego z okazji 99. rocznicy odzyskania niepodległości przez Polskę
END:VEVENT
BEGIN:VEVENT
DTSTART:20171108T000000
DTEND:20171108T000000
UID:5
SUMMARY:Młodzi w działaniu - dla siebie, dla innych, dla świata
END:VEVENT
BEGIN:VEVENT
DTSTART:20171108T000000
DTEND:20171108T000000
UID:6
SUMMARY:Metalklaster Cup - drużyna UwB wzięła udział w turnieju futsalu
END:VEVENT
BEGIN:VEVENT
DTSTART:20171108T000000
DTEND:20171108T000000
UID:7
SUMMARY:Nasz student Marek Kozak wygrał ministerialny konkurs na pracę dotyczącą policji

END:VEVENT
BEGIN:VEVENT
DTSTART:20171108T000000
DTEND:20171108T000000
UID:8
SUMMARY:Dokładność, skrupulatność, sumienność... i języki - CERI DAY na Wydziale Ekonomii i Zarządzania
END:VEVENT
BEGIN:VEVENT
DTSTART:20171109T000000
DTEND:20171109T000000
UID:9
SUMMARY:Wszystko, co chcielibyście wiedzieć o ptakach, ale boicie się zapytać - czyli spotkania ornitologiczne na UwB
END:VEVENT
BEGIN:VEVENT
DTSTART:20171109T000000
DTEND:20171109T000000
UID:10
SUMMARY:Od Al Capone do bitcoina - wykład nt. prania brudnych pieniędzy na Wydziale Ekonomii i Zarządzania
END:VEVENT
BEGIN:VEVENT
DTSTART:20171110T000000
DTEND:20171110T000000
UID:11
SUMMARY:,,Rozkład bogactwa pod lupą fizyka" - zapraszamy na wykład
END:VEVENT
BEGIN:VEVENT
DTSTART:20171110T000000
DTEND:20171110T000000
UID:12
SUMMARY:Studenci UwB nauczą się nowoczesnego zarządzania laboratorium
END:VEVENT
BEGIN:VEVENT
DTSTART:20171113T000000
DTEND:20171113T000000
UID:13
SUMMARY:CERI International zaprasza studentów UwB na bezpłatne kursy językowe
END:VEVENT
BEGIN:VEVENT
DTSTART:20171113T000000
DTEND:20171113T000000
UID:14
SUMMARY:Wydział Pedagogiki i Psychologii wspiera rozwój kompetencji podlaskich nauczycieli

END:VEVENT
BEGIN:VEVENT
DTSTART:20171114T000000
DTEND:20171114T000000
UID:15
SUMMARY:Zapraszamy na Dzień Kulturoznawczy! Już w czwartek, 16 listopada
END:VEVENT
BEGIN:VEVENT
DTSTART:20171114T000000
DTEND:20171114T000000
UID:16
SUMMARY:Już 21 listopada ciekawe spotkania w ramach Tygodnia Otwartej Nauki 
END:VEVENT
BEGIN:VEVENT
DTSTART:20171115T000000
DTEND:20171115T000000
UID:17
SUMMARY:Rozum, racjonalności, symboliczność i jej odmiany. Konferencja 24 listopada
END:VEVENT
BEGIN:VEVENT
DTSTART:20171115T000000
DTEND:20171115T000000
UID:18
SUMMARY:Wschód muzułmański 
END:VEVENT
BEGIN:VEVENT
DTSTART:20171115T000000
DTEND:20171115T000000
UID:19
SUMMARY:Życie na Ziemi - kolejna wystawa UCP w Centrum Handlowym "Alfa"
END:VEVENT
BEGIN:VEVENT
DTSTART:20171116T000000
DTEND:20171116T000000
UID:20
SUMMARY:Stypendia na staże i wyjazdy zagraniczne! 
END:VEVENT
BEGIN:VEVENT
DTSTART:20171116T000000
DTEND:20171116T000000
UID:21
SUMMARY:Nagroda im. Bronisława Geremka dla Krzysztofa Borody z Instytutu Historii i Nauk Politycznych UwB!
END:VEVENT
BEGIN:VEVENT
DTSTART:20171117T000000
DTEND:20171117T000000
UID:22
SUMMARY:Mamy kolejne granty! Ponad 3,5 mln zł z NCN dla badaczy UwB
END:VEVENT
BEGIN:VEVENT
DTSTART:20171117T000000
DTEND:20171117T000000
UID:23
SUMMARY:Zanurzeni w kulturze – Dzień Kulturoznawczy na UwB
END:VEVENT
BEGIN:VEVENT
DTSTART:20171117T000000
DTEND:20171117T000000
UID:24
SUMMARY:Podlaskie Forum Bibliotekarzy
END:VEVENT
BEGIN:VEVENT
DTSTART:20171117T000000
DTEND:20171117T000000
UID:25
SUMMARY:Zapraszamy na wykład prof. Elżbiety Kaczyńskiej o przemocy w carskiej Rosji - 21 listopada
END:VEVENT
BEGIN:VEVENT
DTSTART:20171117T000000
DTEND:20171117T000000
UID:26
SUMMARY:Wykład otwarty "O Marianie Smoluchowskim w setną rocznicę śmierci"
END:VEVENT
BEGIN:VEVENT
DTSTART:20171122T000000
DTEND:20171122T000000
UID:27
SUMMARY:LEXcellence – II Ogólnopolski Konkurs z Prawniczego Języka Angielskiego
END:VEVENT
BEGIN:VEVENT
DTSTART:20171122T000000
DTEND:20171122T000000
UID:28
SUMMARY:,,Moralność, a sztuczna inteligencja" - wykład
END:VEVENT
BEGIN:VEVENT
DTSTART:20171122T000000
DTEND:20171122T000000
UID:29
SUMMARY:Prezentacje „Technotalentów”  UwB 
END:VEVENT
BEGIN:VEVENT
DTSTART:20171122T000000
DTEND:20171122T000000
UID:30
SUMMARY:Uniwersytet w Białymstoku rozwija współpracę ze Wschodem
END:VEVENT
BEGIN:VEVENT
DTSTART:20171123T000000
DTEND:20171123T000000
UID:31
SUMMARY:Ryszard Kaczorowski wpisany w dzieje Uniwersytetu w&nbsp;Białymstoku
END:VEVENT
BEGIN:VEVENT
DTSTART:20171124T000000
DTEND:20171124T000000
UID:32
SUMMARY:73 zaobrączkowane ptaki dziennie!
Organizatorzy Akcji Siemianówka podsumowali sezon 2017 
END:VEVENT
BEGIN:VEVENT
DTSTART:20171124T000000
DTEND:20171124T000000
UID:33
SUMMARY:Konsul z Ambasady USA na Uniwersytecie w Białymstoku
END:VEVENT
BEGIN:VEVENT
DTSTART:20171124T000000
DTEND:20171124T000000
UID:34
SUMMARY:Profesor Ryszard Nycz gościem kolejnego spotkania 
w cyklu Prelekcje Mistrzów
END:VEVENT
BEGIN:VEVENT
DTSTART:20171124T000000
DTEND:20171124T000000
UID:35
SUMMARY:Warsztaty z prezentacji biznesowych
END:VEVENT
BEGIN:VEVENT
DTSTART:20171124T000000
DTEND:20171124T000000
UID:36
SUMMARY:Warsztaty terapii zajęciowej w Instytucie Chemii 
END:VEVENT
BEGIN:VEVENT
DTSTART:20171124T000000
DTEND:20171124T000000
UID:37
SUMMARY:Zespół projektu NO-AUTIsm z Wydziału Prawa z wizytą w USA ws. praw osób z niepełnosprawnościami
END:VEVENT
BEGIN:VEVENT
DTSTART:20171127T000000
DTEND:20171127T000000
UID:38
SUMMARY:Dr Katarzyna Sztop-Rutkowska: Nic nie zastąpi kontaktu człowiek - człowiek
END:VEVENT
BEGIN:VEVENT
DTSTART:20171127T000000
DTEND:20171127T000000
UID:39
SUMMARY:Wizyta studyjna na Uniwersytecie w Lizbonie
END:VEVENT
BEGIN:VEVENT
DTSTART:20171127T000000
DTEND:20171127T000000
UID:40
SUMMARY:Rusza rekrutacja do programu "Legia Akademicka"
END:VEVENT
BEGIN:VEVENT
DTSTART:20171127T000000
DTEND:20171127T000000
UID:41
SUMMARY:Uniwersytet w Białymstoku regionalnym partnerem Klubów Młodego Odkrywcy - programu Centrum Nauki Kopernik

END:VEVENT
BEGIN:VEVENT
DTSTART:20171127T000000
DTEND:20171127T000000
UID:42
SUMMARY:Nasz KRON w finale ogólnopolskiego konkursu Popularyzator Nauki 2017
END:VEVENT
BEGIN:VEVENT
DTSTART:20171127T000000
DTEND:20171127T000000
UID:43
SUMMARY:W Instytucie Chemii odbył się I etap 64. Olimpiady Chemicznej
END:VEVENT
BEGIN:VEVENT
DTSTART:20171128T000000
DTEND:20171128T000000
UID:44
SUMMARY:Kiermasz książek "Studenci Sybirakom". Pomagamy w odbudowie kościoła w syberyjskim Białymstoku

END:VEVENT
BEGIN:VEVENT
DTSTART:20171129T000000
DTEND:20171129T000000
UID:45
SUMMARY:Wybitny białoruski artysta Artur Klinau - zapraszamy na wykład na Uniwersytecie w Białymstoku
END:VEVENT
BEGIN:VEVENT
DTSTART:20171129T000000
DTEND:20171129T000000
UID:46
SUMMARY:Dokarmiają, badają, obrączkują. W najbliższy weekend na UwB rusza Akcja Karmnik

END:VEVENT
BEGIN:VEVENT
DTSTART:20230228T120000
DTEND:20260424T132755
UID:47
SUMMARY:Seminarium naukowe "Fizjologia nurkowania na wstrzymanym oddechu"
END:VEVENT
BEGIN:VEVENT
DTSTART:20230307T131500
DTEND:20260424T132755
UID:48
SUMMARY:Holografia – od podstaw po najnowsze wykorzystanie opto-magnetyzmu
END:VEVENT
BEGIN:VEVENT
DTSTART:20230314T120000
DTEND:20260424T132755
UID:49
SUMMARY:Wydział Biologii UwB zaprasza na seminarium naukowe pt. "Współczesne zagrożenia wirusologiczne"
END:VEVENT
BEGIN:VEVENT
DTSTART:20230315T113000
DTEND:20260424T132755
UID:50
SUMMARY:Kulturoznawcy z UwB zapraszają na spotkanie autorskie z Wojciechem Rogacinem
END:VEVENT
BEGIN:VEVENT
DTSTART:20230320T120000
DTEND:20260424T132755
UID:51
SUMMARY:Międzynarodowy Dzień Frankofonii na Wydziale Filologicznym UwB
END:VEVENT
BEGIN:VEVENT
DTSTART:20230419T100000
DTEND:20260424T133000
UID:52
SUMMARY:Biuro Karier UwB zaprasza na Targi Pracy - wiosna 2023
END:VEVENT
BEGIN:VEVENT
DTSTART:20230531T130000
DTEND:20260424T132755
UID:53
SUMMARY:Uroczystość nadania tytułu doktora honoris causa Uniwersytetu w Białymstoku prof. Tadeuszowi Pilchowi
END:VEVENT
BEGIN:VEVENT
DTSTART:20230628T180000
DTEND:20260424T132755
UID:54
SUMMARY:Koncert muzyki renesansowej i barokowej w auli Wydziału Nauk o Edukacji
END:VEVENT
BEGIN:VEVENT
DTSTART:20231010T000000
DTEND:20260424T132755
UID:55
SUMMARY:GLOTTA - Uniwersyteckie Studium Praktycznej Nauki Języków Obcych zaprasza na kurs z języka angielskiego
END:VEVENT
BEGIN:VEVENT
DTSTART:20231018T140000
DTEND:20260424T132755
UID:56
SUMMARY:“Opowieści o prawach dziecka”. Spotkanie autorskie z dr. Markiem Michalakiem
END:VEVENT
BEGIN:VEVENT
DTSTART:20231023T180000
DTEND:20260424T132755
UID:57
SUMMARY:Spotkanie z Krystyną Konecką: Konterfekty i konteksty
END:VEVENT
BEGIN:VEVENT
DTSTART:20231023T150000
DTEND:20260424T132755
UID:58
SUMMARY:Jak innych zapalać i samemu nie zgasnąć? Wykład otwarty na UwB
END:VEVENT
BEGIN:VEVENT
DTSTART:20231121T110000
DTEND:20260424T132755
UID:59
SUMMARY:I Seminarium Ekonomiczne dla Biznesu o nieruchomościach
END:VEVENT
BEGIN:VEVENT
DTSTART:20231204T150000
DTEND:20260424T132755
UID:60
SUMMARY:Rusza II edycja Programu Tutorskiego UwB. Uczelnia czeka na zgłoszenia uczniów do 4 grudnia
END:VEVENT
BEGIN:VEVENT
DTSTART:20231214T120000
DTEND:20260424T132755
UID:61
SUMMARY:Chcesz być mistrzem - myśl jak mistrz! Spotkanie z Piotrem Markiewiczem na UwB
END:VEVENT
BEGIN:VEVENT
DTSTART:20240110T170000
DTEND:20260424T132755
UID:62
SUMMARY:Osobowości zwierząt.  Kolejne Spotkanie z filozofią i kognitywistyką na UwB
END:VEVENT
BEGIN:VEVENT
DTSTART:20240112T120000
DTEND:20260424T132755
UID:63
SUMMARY:Tajemnice życia od komórek do biosfery, czyli Noc Biologów 2024 w kampusie Uniwersytetu w Białymstoku
END:VEVENT
BEGIN:VEVENT
DTSTART:20240215T000000
DTEND:20260424T132755
UID:64
SUMMARY:Studium Praktycznej Nauki Języków Obcych zaprasza na kurs przygotowujący do egzaminu IELTS
END:VEVENT
BEGIN:VEVENT
DTSTART:20240218T093000
DTEND:20260424T143000
UID:65
SUMMARY:Turniej Szachowy o Puchar Rektora Uniwersytetu w Białymstoku
END:VEVENT
BEGIN:VEVENT
DTSTART:20240221T120000
DTEND:20260424T132755
UID:66
SUMMARY:Frazeolandia – kraina mlekiem i miodem płynąca
END:VEVENT
BEGIN:VEVENT
DTSTART:20240301T100000
DTEND:20260424T132755
UID:67
SUMMARY:Jubileusz 25-lecia Katedry Teologii Katolickiej i Katedry Teologii Prawosławnej Uniwersytetu w Białymstoku
END:VEVENT
BEGIN:VEVENT
DTSTART:20240312T094000
DTEND:20260424T132755
UID:68
SUMMARY:Debata „Ćwierć wieku współpracy dla bezpieczeństwa. 25 lat Polski w NATO”
END:VEVENT
BEGIN:VEVENT
DTSTART:20240319T131500
DTEND:20260424T132755
UID:69
SUMMARY:Topological Phases of Materials and Their Applications na Wydziale Fizyki
END:VEVENT
BEGIN:VEVENT
DTSTART:20240322T163000
DTEND:20260424T132755
UID:70
SUMMARY:50-lecie Olimpiady Historycznej - konferencja
END:VEVENT
BEGIN:VEVENT
DTSTART:20240424T090000
DTEND:20260424T132755
UID:71
SUMMARY:Program i ogólne zasady organizacji spotkania kandydatów na rektora Uniwersytetu w Białymstoku z kolegium elektorów oraz członkami wspólnoty uczelni
END:VEVENT
BEGIN:VEVENT
DTSTART:20240513T000000
DTEND:20260424T132755
UID:72
SUMMARY:Bezpłatne kursy i szkolenia Santander Open Academy
END:VEVENT
BEGIN:VEVENT
DTSTART:20240603T120000
DTEND:20260424T132755
UID:73
SUMMARY:Wydział Chemii UwB zaprasza na seminarium Chemia-Prawo-Kryminalistyka
END:VEVENT
BEGIN:VEVENT
DTSTART:20240606T093000
DTEND:20260424T132755
UID:74
SUMMARY:Wydział Historii UwB zaprasza na wykład ,,Archeologia prawna Śląska i ziemi kłodzkiej XV-XVIII w. – wybrane aspekty badawcze’’
END:VEVENT
BEGIN:VEVENT
DTSTART:20240616T150000
DTEND:20260424T132755
UID:75
SUMMARY:„Misja Bioróżnorodność” na UwB znów rekrutuje
END:VEVENT
BEGIN:VEVENT
DTSTART:20240916T140000
DTEND:20260424T160000
UID:76
SUMMARY:Uroczystość nadania tytułu doktora honoris causa Uniwersytetu w Białymstoku
END:VEVENT
BEGIN:VEVENT
DTSTART:20240917T130000
DTEND:20260424T132755
UID:77
SUMMARY:Nauka na rzecz efektywnego wejścia na rynek pracy wykształconych autystów – konferencja podsumowująca
END:VEVENT
BEGIN:VEVENT
DTSTART:20241025T160000
DTEND:20260424T132755
UID:78
SUMMARY:O szeptuchach i religijności ludowej – spotkanie autorskie z dr Eweliną Sadanowicz w Bibliotece Uniwersyteckiej
END:VEVENT
BEGIN:VEVENT
DTSTART:20241119T094500
DTEND:20260424T132755
UID:79
SUMMARY:Wydział Nauk o Edukacji zaprasza na wykład: Osobowość psychopatyczna w świetle najnowszych badań naukowych
END:VEVENT
BEGIN:VEVENT
DTSTART:20241126T113000
DTEND:20260424T132755
UID:80
SUMMARY:Zaproszenie na przedstawienie Teatru Amatorskiego z Dubna (k. Bielska Podlaskiego) sztuki Heleny Aleksiejuk pt: „Timoszka"
END:VEVENT
BEGIN:VEVENT
DTSTART:20250319T131500
DTEND:20260424T132755
UID:81
SUMMARY:AI i dezinformacja - wykład na Wydziale Prawa UwB
END:VEVENT
BEGIN:VEVENT
DTSTART:20250321T103000
DTEND:20260424T132755
UID:82
SUMMARY:"Rola i znaczenie Służby Cywilnej w Polsce" - spotkanie z Małgorzatą Bywanis-Jodlińską
END:VEVENT
BEGIN:VEVENT
DTSTART:20250415T080000
DTEND:20260424T132755
UID:83
SUMMARY:Diorama Box 4 Love. Mikro-Krajobrazy Podlasia. Biblioteka Uniwersytecka zaprasza na wystawę
END:VEVENT
BEGIN:VEVENT
DTSTART:20250507T183000
DTEND:20260424T132755
UID:84
SUMMARY:Teatr, uczelnia i sztuczna inteligencja. Uniwersytecki Teatr StuKoT zaprasza na premierę spektaklu „Ferrando AI”
END:VEVENT
BEGIN:VEVENT
DTSTART:20251120T113000
DTEND:20260424T132755
UID:85
SUMMARY:Jak dziś czytać Żeromskiego? – Biblioteka Uniwersytecka zaprasza na spotkanie z prof. Markiem Kochanowskim
END:VEVENT
BEGIN:VEVENT
DTSTART:20251127T120000
DTEND:20260424T150000
UID:86
SUMMARY:Zdrowy Andrzej, czyli młodzi młodym o zdrowiu - akcja profilaktyczna na UwB
END:VEVENT
BEGIN:VEVENT
DTSTART:20251213T100000
DTEND:20260424T132755
UID:87
SUMMARY:Warsztaty ze znakomitym rękodzielnikiem w Biebrzańskim Parku Narodowym. Zapraszamy do stacji terenowej Wydziału Biologii UwB w Gugnach
END:VEVENT
BEGIN:VEVENT
DTSTART:20260315T120000
DTEND:20260424T132755
UID:88
SUMMARY:Wolność WYboru - o decyzjach, tożsamości i przekraczaniu granic. Wystawa na Wydziale Nauk o Edukacji
END:VEVENT
END:VCALENDAR