BEGIN:VCALENDAR
VERSION:2.0
PRODID:-//dhtmlXScheduler//NONSGML v2.2//EN
X-WR-CALNAME:Wydarzenia
BEGIN:VEVENT
DTSTART:20160801T000000
DTEND:20160801T000000
UID:1
SUMMARY: IX Ogólnopolski Zjazd Pedagogiczny 
END:VEVENT
END:VCALENDAR