BEGIN:VCALENDAR
VERSION:2.0
PRODID:-//dhtmlXScheduler//NONSGML v2.2//EN
X-WR-CALNAME:Wydarzenia
BEGIN:VEVENT
DTSTART:20180905T000000
DTEND:20180905T000000
UID:1
SUMMARY:100-lecie odzyskania niepodległości przez 
Polskę. Rok 1918 z perspektywy polskiej, 
litewskiej, białoruskiej i ukraińskiej 
END:VEVENT
END:VCALENDAR