BEGIN:VCALENDAR
VERSION:2.0
PRODID:-//dhtmlXScheduler//NONSGML v2.2//EN
X-WR-CALNAME:Wydarzenia
BEGIN:VEVENT
DTSTART:20191119T000000
DTEND:20191119T000000
UID:1
SUMMARY:19 listopada ruszy kolejna tura generowania wniosków stypendialnych
END:VEVENT
END:VCALENDAR