BEGIN:VCALENDAR
VERSION:2.0
PRODID:-//dhtmlXScheduler//NONSGML v2.2//EN
X-WR-CALNAME:Wydarzenia
BEGIN:VEVENT
DTSTART:20170817T000000
DTEND:20170817T000000
UID:1
SUMMARY:„Akademia Małych Odkrywców” w galerii handlowej
END:VEVENT
END:VCALENDAR