BEGIN:VCALENDAR
VERSION:2.0
PRODID:-//dhtmlXScheduler//NONSGML v2.2//EN
X-WR-CALNAME:Wydarzenia
BEGIN:VEVENT
DTSTART:20191112T000000
DTEND:20191112T000000
UID:1
SUMMARY:Biblioteka Uniwersytecka zaprasza na Dni Kultury Japońskiej
END:VEVENT
END:VCALENDAR