BEGIN:VCALENDAR
VERSION:2.0
PRODID:-//dhtmlXScheduler//NONSGML v2.2//EN
X-WR-CALNAME:Wydarzenia
BEGIN:VEVENT
DTSTART:20180327T000000
DTEND:20180327T000000
UID:1
SUMMARY:„Dziecko w historii – sytuacja dziecka w odrodzonym państwie polskim”,

END:VEVENT
END:VCALENDAR