BEGIN:VCALENDAR
VERSION:2.0
PRODID:-//dhtmlXScheduler//NONSGML v2.2//EN
X-WR-CALNAME:Wydarzenia
BEGIN:VEVENT
DTSTART:20180924T000000
DTEND:20180924T000000
UID:1
SUMMARY:„Dzieło literackie w przestrzeni kulturowej”
END:VEVENT
END:VCALENDAR