BEGIN:VCALENDAR
VERSION:2.0
PRODID:-//dhtmlXScheduler//NONSGML v2.2//EN
X-WR-CALNAME:Wydarzenia
BEGIN:VEVENT
DTSTART:20160205T000000
DTEND:20160205T000000
UID:1
SUMMARY:Filmowe zaproszenie do odwiedzenia Gabinetu Ryszarda Kaczorowskiego
END:VEVENT
END:VCALENDAR