BEGIN:VCALENDAR
VERSION:2.0
PRODID:-//dhtmlXScheduler//NONSGML v2.2//EN
X-WR-CALNAME:Wydarzenia
BEGIN:VEVENT
DTSTART:20191115T000000
DTEND:20191115T000000
UID:1
SUMMARY:I Międzynarodowa Konferencja Naukowa z cyklu "Białostockie Sympozja Slawistyczne"
END:VEVENT
END:VCALENDAR