BEGIN:VCALENDAR
VERSION:2.0
PRODID:-//dhtmlXScheduler//NONSGML v2.2//EN
X-WR-CALNAME:Wydarzenia
BEGIN:VEVENT
DTSTART:20160613T000000
DTEND:20160613T000000
UID:1
SUMMARY:II miejsce Wydziału Prawa UwB w rankingu wydziałów prawa Rzeczpospolitej 2016
END:VEVENT
END:VCALENDAR