BEGIN:VCALENDAR
VERSION:2.0
PRODID:-//dhtmlXScheduler//NONSGML v2.2//EN
X-WR-CALNAME:Wydarzenia
BEGIN:VEVENT
DTSTART:20170419T000000
DTEND:20170419T000000
UID:1
SUMMARY:Kobiety w służbach mundurowych – role, zadania i wyzwania
END:VEVENT
END:VCALENDAR