BEGIN:VCALENDAR
VERSION:2.0
PRODID:-//dhtmlXScheduler//NONSGML v2.2//EN
X-WR-CALNAME:Wydarzenia
BEGIN:VEVENT
DTSTART:20161107T000000
DTEND:20161107T000000
UID:1
SUMMARY:Madagaskar - ginący świat. Nowa wystawa w Uniwersyteckim Centrum Przyrodniczym
END:VEVENT
END:VCALENDAR