BEGIN:VCALENDAR
VERSION:2.0
PRODID:-//dhtmlXScheduler//NONSGML v2.2//EN
X-WR-CALNAME:Wydarzenia
BEGIN:VEVENT
DTSTART:20180301T000000
DTEND:20180301T000000
UID:1
SUMMARY:Międzynarodowa wymiana pracowników i praktyczne aspekty pisania wniosków
END:VEVENT
END:VCALENDAR