BEGIN:VCALENDAR
VERSION:2.0
PRODID:-//dhtmlXScheduler//NONSGML v2.2//EN
X-WR-CALNAME:Wydarzenia
BEGIN:VEVENT
DTSTART:20190916T000000
DTEND:20190916T000000
UID:1
SUMMARY:Międzynarodowe Seminarium Dydaktyczne z Zakresu Procesu Dydaktycznego w Dziedzinie Finansów na Wydziale Ekonomii i Zarządzania UwB
END:VEVENT
END:VCALENDAR