BEGIN:VCALENDAR
VERSION:2.0
PRODID:-//dhtmlXScheduler//NONSGML v2.2//EN
X-WR-CALNAME:Wydarzenia
BEGIN:VEVENT
DTSTART:20180806T000000
DTEND:20180806T000000
UID:1
SUMMARY:„Nadrzecznymi ścieżkami Podlasia” i „Życie na Ziemi – zarys dziejów”. Zapraszamy na wystawy
END:VEVENT
END:VCALENDAR