BEGIN:VCALENDAR
VERSION:2.0
PRODID:-//dhtmlXScheduler//NONSGML v2.2//EN
X-WR-CALNAME:Wydarzenia
BEGIN:VEVENT
DTSTART:20190920T000000
DTEND:20190920T000000
UID:1
SUMMARY:Naukowcy będą rozmawiać o pajęczakach.
UwB gospodarzem VI Krajowej Konferencji Arachnologicznej
END:VEVENT
END:VCALENDAR