BEGIN:VCALENDAR
VERSION:2.0
PRODID:-//dhtmlXScheduler//NONSGML v2.2//EN
X-WR-CALNAME:Wydarzenia
BEGIN:VEVENT
DTSTART:20170911T000000
DTEND:20170911T000000
UID:1
SUMMARY:O "komunikowaniu się" roślin będą rozmawiać biolodzy podczas międzynarodowej konferencji na UwB
END:VEVENT
END:VCALENDAR