BEGIN:VCALENDAR
VERSION:2.0
PRODID:-//dhtmlXScheduler//NONSGML v2.2//EN
X-WR-CALNAME:Wydarzenia
BEGIN:VEVENT
DTSTART:20191114T000000
DTEND:20191114T000000
UID:1
SUMMARY:Ochrona ptaków a rozwój wiedzy. „Popołudniowa kawka z mlekiem” na Wydziale Biologii UwB
END:VEVENT
END:VCALENDAR