BEGIN:VCALENDAR
VERSION:2.0
PRODID:-//dhtmlXScheduler//NONSGML v2.2//EN
X-WR-CALNAME:Wydarzenia
BEGIN:VEVENT
DTSTART:20160425T000000
DTEND:20160425T000000
UID:1
SUMMARY:Ostatnie dni zgłoszeń do projektu Absolwent w Transferowni

END:VEVENT
END:VCALENDAR