BEGIN:VCALENDAR
VERSION:2.0
PRODID:-//dhtmlXScheduler//NONSGML v2.2//EN
X-WR-CALNAME:Wydarzenia
BEGIN:VEVENT
DTSTART:20160915T000000
DTEND:20160915T000000
UID:1
SUMMARY:Pobierz Szlak Dziedzictwa Żydowskiego
END:VEVENT
END:VCALENDAR