BEGIN:VCALENDAR
VERSION:2.0
PRODID:-//dhtmlXScheduler//NONSGML v2.2//EN
X-WR-CALNAME:Wydarzenia
BEGIN:VEVENT
DTSTART:20160408T000000
DTEND:20160408T000000
UID:1
SUMMARY:Podlaska Akademia Liderów.
Szkolenia dla studentów UwB w ramach programu Santander Universidades.

END:VEVENT
END:VCALENDAR