BEGIN:VCALENDAR
VERSION:2.0
PRODID:-//dhtmlXScheduler//NONSGML v2.2//EN
X-WR-CALNAME:Wydarzenia
BEGIN:VEVENT
DTSTART:20190724T000000
DTEND:20190724T000000
UID:1
SUMMARY:Poetyckie Imieniny na Skwerze Anny Markowej
END:VEVENT
END:VCALENDAR