BEGIN:VCALENDAR
VERSION:2.0
PRODID:-//dhtmlXScheduler//NONSGML v2.2//EN
X-WR-CALNAME:Wydarzenia
BEGIN:VEVENT
DTSTART:20190805T000000
DTEND:20190805T000000
UID:1
SUMMARY:„Polcon 2019”. Święto miłośników fantastyki na UwB
END:VEVENT
END:VCALENDAR