BEGIN:VCALENDAR
VERSION:2.0
PRODID:-//dhtmlXScheduler//NONSGML v2.2//EN
X-WR-CALNAME:Wydarzenia
BEGIN:VEVENT
DTSTART:20170808T000000
DTEND:20170808T000000
UID:1
SUMMARY:Porozumienie o współpracy pomiędzy Narodowym Centrum Nauki i Towarzystwem Maxa Plancka - zaproszenie do zgłaszania gotowości utworzenia Centrów Doskonałości Naukowej Dioscuri
END:VEVENT
END:VCALENDAR