BEGIN:VCALENDAR
VERSION:2.0
PRODID:-//dhtmlXScheduler//NONSGML v2.2//EN
X-WR-CALNAME:Wydarzenia
BEGIN:VEVENT
DTSTART:20170711T000000
DTEND:20170711T000000
UID:1
SUMMARY:Rekordowa kryminologia, ogromne zainteresowaniem prawem i ekonomią - rekrutacja na UwB


END:VEVENT
END:VCALENDAR