BEGIN:VCALENDAR
VERSION:2.0
PRODID:-//dhtmlXScheduler//NONSGML v2.2//EN
X-WR-CALNAME:Wydarzenia
BEGIN:VEVENT
DTSTART:20190619T000000
DTEND:20190619T000000
UID:1
SUMMARY:Relacja z konferencji „Środowisko – nauka – odpowiedzialność”
END:VEVENT
END:VCALENDAR