BEGIN:VCALENDAR
VERSION:2.0
PRODID:-//dhtmlXScheduler//NONSGML v2.2//EN
X-WR-CALNAME:Wydarzenia
BEGIN:VEVENT
DTSTART:20190627T000000
DTEND:20190627T000000
UID:1
SUMMARY:Relacja ze spotkania z prof. Błażejem Skoczniem – przewodniczącym Komisji Ewaluacji Nauki
END:VEVENT
END:VCALENDAR