BEGIN:VCALENDAR
VERSION:2.0
PRODID:-//dhtmlXScheduler//NONSGML v2.2//EN
X-WR-CALNAME:Wydarzenia
BEGIN:VEVENT
DTSTART:20161114T000000
DTEND:20161114T000000
UID:1
SUMMARY:Święto fanów wszelkich gier- już w ten weekend! Zapraszamy do naszego kampusu.
END:VEVENT
END:VCALENDAR