BEGIN:VCALENDAR
VERSION:2.0
PRODID:-//dhtmlXScheduler//NONSGML v2.2//EN
X-WR-CALNAME:Wydarzenia
BEGIN:VEVENT
DTSTART:20181029T000000
DTEND:20181029T000000
UID:1
SUMMARY:UWAGA! Awaria aplikacji do głosowania w Budżecie Obywatelskim!
END:VEVENT
END:VCALENDAR