BEGIN:VCALENDAR
VERSION:2.0
PRODID:-//dhtmlXScheduler//NONSGML v2.2//EN
X-WR-CALNAME:Wydarzenia
BEGIN:VEVENT
DTSTART:20180319T000000
DTEND:20180319T000000
UID:1
SUMMARY:warto/ nie warto...
V Konkurs Literacki im. Anny Markowej 

END:VEVENT
END:VCALENDAR