BEGIN:VCALENDAR
VERSION:2.0
PRODID:-//dhtmlXScheduler//NONSGML v2.2//EN
X-WR-CALNAME:Wydarzenia
BEGIN:VEVENT
DTSTART:20190304T000000
DTEND:20190304T000000
UID:1
SUMMARY:Wydział Ekonomiczno-Informatyczny UwB w Wilnie był gospodarzem obrad Uniwersyteckiej Komisji Kształcenia
END:VEVENT
END:VCALENDAR