BEGIN:VCALENDAR
VERSION:2.0
PRODID:-//dhtmlXScheduler//NONSGML v2.2//EN
X-WR-CALNAME:Wydarzenia
BEGIN:VEVENT
DTSTART:20190308T000000
DTEND:20190308T000000
UID:1
SUMMARY:Wykład otwarty z cyklu Podlaskiego Forum Bibliotekarzy
END:VEVENT
END:VCALENDAR