BEGIN:VCALENDAR
VERSION:2.0
PRODID:-//dhtmlXScheduler//NONSGML v2.2//EN
X-WR-CALNAME:Wydarzenia
BEGIN:VEVENT
DTSTART:20160624T000000
DTEND:20160624T000000
UID:1
SUMMARY:X Ranking Wydziałów Prawa Dziennika Gazety Prawnej
END:VEVENT
END:VCALENDAR