BEGIN:VCALENDAR
VERSION:2.0
PRODID:-//dhtmlXScheduler//NONSGML v2.2//EN
X-WR-CALNAME:Wydarzenia
BEGIN:VEVENT
DTSTART:20200525T000000
DTEND:20200525T000000
UID:1
SUMMARY:Zarządzenie rektora dotyczące funkcjonowania uczelni do 30 września
END:VEVENT
END:VCALENDAR