BEGIN:VCALENDAR
VERSION:2.0
PRODID:-//dhtmlXScheduler//NONSGML v2.2//EN
X-WR-CALNAME:Wydarzenia
BEGIN:VEVENT
DTSTART:20190327T000000
DTEND:20190327T000000
UID:1
SUMMARY:Żeby żaby nie ginęły. 
Studenci z UwB rozpoczęli doroczną Akcję Płotki 
END:VEVENT
END:VCALENDAR