BEGIN:VCALENDAR
VERSION:2.0
PRODID:-//dhtmlXScheduler//NONSGML v2.2//EN
X-WR-CALNAME:Wydarzenia
BEGIN:VEVENT
DTSTART:20170918T000000
DTEND:20170918T000000
UID:1
SUMMARY:Źródła Polski - konferencja naukowa Instytutu Biologii i Parku Krajobrazowego Puszczy Knyszyńskiej
 
END:VEVENT
END:VCALENDAR